BEGIN:VCALENDAR
VERSION:2.0
PRODID:-//Tukios.com/
BEGIN:VEVENT
UID:a109d3d2-5470-4172-beff-97201b786d59@www.waybrightfuneralhome.com
DTSTAMP:20260422T190749Z
DTSTART:20260424T150000Z
DTEND:20260424T170000Z
SUMMARY:Visitation
DESCRIPTION:
URL:https://www.waybrightfuneralhome.com/obituaries/anna-randolph
LOCATION:Waybright Funeral Home 511 S. Church St  Ripley WV 25271
GEO:38.8090955;-81.7026512
END:VEVENT
END:VCALENDAR