BEGIN:VCALENDAR
VERSION:2.0
PRODID:-//Tukios.com/
BEGIN:VEVENT
UID:ed22e8c5-28f6-48c6-a3b4-a0a0c9cdf211@www.waybrightfuneralhome.com
DTSTAMP:20260422T190730Z
DTSTART:20260424T170000Z
DTEND:20260424T180000Z
SUMMARY:Funeral Service
DESCRIPTION:
URL:https://www.waybrightfuneralhome.com/obituaries/anna-randolph
LOCATION:Waybright Funeral Home 511 S. Church St  Ripley WV 25271
GEO:38.8090955;-81.7026512
END:VEVENT
END:VCALENDAR