BEGIN:VCALENDAR
VERSION:2.0
PRODID:-//Tukios.com/
BEGIN:VEVENT
UID:977c30e4-cdab-4578-99ab-8366526f51a2@www.waybrightfuneralhome.com
DTSTAMP:20260425T021553Z
DTSTART:20260430T230000Z
DTEND:20260501T000000Z
SUMMARY:Funeral Service
DESCRIPTION:
URL:https://www.waybrightfuneralhome.com/obituaries/eric-grandon
LOCATION: 511 S. Church St  Ripley WV 25271
GEO:38.8090955;-81.7026512
END:VEVENT
END:VCALENDAR