BEGIN:VCALENDAR
VERSION:2.0
PRODID:-//Tukios.com/
BEGIN:VEVENT
UID:a0cb0bc3-95cd-442a-95d8-a0206d078780@www.waybrightfuneralhome.com
DTSTAMP:20260425T021649Z
DTSTART:20260430T220000Z
DTEND:20260430T230000Z
SUMMARY:Visitation
DESCRIPTION:
URL:https://www.waybrightfuneralhome.com/obituaries/eric-grandon
LOCATION: 511 S. Church St  Ripley WV 25271
GEO:38.8090955;-81.7026512
END:VEVENT
END:VCALENDAR